BEGIN:VCALENDAR
VERSION:2.0
PRODID:-//Center for Faculty Success - ECPv6.7.0//NONSGML v1.0//EN
CALSCALE:GREGORIAN
METHOD:PUBLISH
X-ORIGINAL-URL:https://facultysuccess.rutgers.edu
X-WR-CALDESC:Events for Center for Faculty Success
REFRESH-INTERVAL;VALUE=DURATION:PT1H
X-Robots-Tag:noindex
X-PUBLISHED-TTL:PT1H
BEGIN:VTIMEZONE
TZID:UTC
BEGIN:STANDARD
TZOFFSETFROM:+0000
TZOFFSETTO:+0000
TZNAME:UTC
DTSTART:20250101T000000
END:STANDARD
END:VTIMEZONE
BEGIN:VEVENT
DTSTART;TZID=UTC:20250926T083000
DTEND;TZID=UTC:20250926T133000
DTSTAMP:20260420T160004
CREATED:20250917T181847Z
LAST-MODIFIED:20250925T152423Z
UID:1425-1758875400-1758893400@facultysuccess.rutgers.edu
SUMMARY:Welcome Back Chairs Breakfast
DESCRIPTION:Please join us for our annual Welcome Back Breakfast for Chairs. We hope to see all Chairs for the breakfast and a leadership discussion with the Provost. Following breakfast\, we will have a day of leadership development workshops. All are invited\, but new and recently new (within the past few years) Chairs are strongly encouraged to attend the full day. \n2025 AGENDA Welcome Back Chairs
URL:https://facultysuccess.rutgers.edu/event/welcome-back-chair-breakfast/
LOCATION:Rutgers Club\, 85 Avenue E\, Piscataway\, NJ\, 08854\, United States
CATEGORIES:Center for Faculty Success,Department Chairs
END:VEVENT
BEGIN:VEVENT
DTSTART;TZID=UTC:20250926T100000
DTEND;TZID=UTC:20250926T120000
DTSTAMP:20260420T160004
CREATED:20250925T145835Z
LAST-MODIFIED:20250925T145835Z
UID:1481-1758880800-1758888000@facultysuccess.rutgers.edu
SUMMARY:Mentoring 101 Workshop with Dr. Carlita Favero
DESCRIPTION:Attend our NCFDD-led virtual workshop to identify limiting beliefs about faculty mentoring\, establish a needs-based framework for mentoring\, and create a plan to expand your current network.
URL:https://facultysuccess.rutgers.edu/event/mentoring-101-workshop-with-dr-carlita-favero/
LOCATION:Online
CATEGORIES:Faculty Diversity Collaborative,University Equity and Inclusion
END:VEVENT
END:VCALENDAR