BEGIN:VCALENDAR
VERSION:2.0
PRODID:-//Center for Faculty Success - ECPv6.7.0//NONSGML v1.0//EN
CALSCALE:GREGORIAN
METHOD:PUBLISH
X-WR-CALNAME:Center for Faculty Success
X-ORIGINAL-URL:https://facultysuccess.rutgers.edu
X-WR-CALDESC:Events for Center for Faculty Success
REFRESH-INTERVAL;VALUE=DURATION:PT1H
X-Robots-Tag:noindex
X-PUBLISHED-TTL:PT1H
BEGIN:VTIMEZONE
TZID:UTC
BEGIN:STANDARD
TZOFFSETFROM:+0000
TZOFFSETTO:+0000
TZNAME:UTC
DTSTART:20250101T000000
END:STANDARD
END:VTIMEZONE
BEGIN:VEVENT
DTSTART;TZID=UTC:20251021T123000
DTEND;TZID=UTC:20251021T140000
DTSTAMP:20260424T190545
CREATED:20250925T143208Z
LAST-MODIFIED:20250925T143208Z
UID:1466-1761049800-1761055200@facultysuccess.rutgers.edu
SUMMARY:Peer Review of Online Teaching (Virtual Interactive Workshop)
DESCRIPTION:Peer review of teaching plays a crucial role in the advancement\, reappointment\, and promotion process for instructors across all ranks. Many educators now teach courses with significant online components\, including asynchronous online\, synchronous online\, and hybrid formats. Peer review of these courses presents unique challenges\, such as defining the concept of “observation\,” understanding the integration of course design and student engagement\, and recognizing the specific challenges faced by both instructors and students in online settings. This workshop offers a platform to share best practices and engage in discussions about these issues. If you wish to attend the workshop or to receive the video recording after the workshop\, please register.
URL:https://facultysuccess.rutgers.edu/event/peer-review-of-online-teaching-virtual-interactive-workshop/
LOCATION:Online
CATEGORIES:Office of Teaching Evaluation and Assessment Research
END:VEVENT
END:VCALENDAR