BEGIN:VCALENDAR
VERSION:2.0
PRODID:-//Center for Faculty Success - ECPv6.7.0//NONSGML v1.0//EN
CALSCALE:GREGORIAN
METHOD:PUBLISH
X-WR-CALNAME:Center for Faculty Success
X-ORIGINAL-URL:https://facultysuccess.rutgers.edu
X-WR-CALDESC:Events for Center for Faculty Success
REFRESH-INTERVAL;VALUE=DURATION:PT1H
X-Robots-Tag:noindex
X-PUBLISHED-TTL:PT1H
BEGIN:VTIMEZONE
TZID:UTC
BEGIN:STANDARD
TZOFFSETFROM:+0000
TZOFFSETTO:+0000
TZNAME:UTC
DTSTART:20250101T000000
END:STANDARD
END:VTIMEZONE
BEGIN:VEVENT
DTSTART;TZID=UTC:20251203T133000
DTEND;TZID=UTC:20251203T150000
DTSTAMP:20260424T011218
CREATED:20250925T143707Z
LAST-MODIFIED:20251023T134457Z
UID:1473-1764768600-1764774000@facultysuccess.rutgers.edu
SUMMARY:OTEAR: Using the Rutgers Guidelines for Presenting Evidence of Effective Teaching (Virtual Interactive Workshop)
DESCRIPTION:This workshop will explore the Guidelines for Effective Teaching\, which adopts a framework showing what effective teaching looks like and encourages faculty to present evidence that shows their strengths across all aspects of teaching. As part of this session\, participants evaluate samples of evidence and brainstorm what sources of evidence they can muster to build their promotion packets. This workshop is intended for all instructors presenting evidence for effective teaching. Please register to attend or receive the recording. \nREGISTER
URL:https://facultysuccess.rutgers.edu/event/using-the-rutgers-guidelines-for-presenting-evidence-of-effective-teaching-virtual-interactive-workshop/
LOCATION:Online
CATEGORIES:Office of Teaching Evaluation and Assessment Research
END:VEVENT
END:VCALENDAR