BEGIN:VCALENDAR
VERSION:2.0
PRODID:-//Center for Faculty Success - ECPv6.7.0//NONSGML v1.0//EN
CALSCALE:GREGORIAN
METHOD:PUBLISH
X-ORIGINAL-URL:https://facultysuccess.rutgers.edu
X-WR-CALDESC:Events for Center for Faculty Success
REFRESH-INTERVAL;VALUE=DURATION:PT1H
X-Robots-Tag:noindex
X-PUBLISHED-TTL:PT1H
BEGIN:VTIMEZONE
TZID:UTC
BEGIN:STANDARD
TZOFFSETFROM:+0000
TZOFFSETTO:+0000
TZNAME:UTC
DTSTART:20250101T000000
END:STANDARD
END:VTIMEZONE
BEGIN:VEVENT
DTSTART;TZID=UTC:20251211T103000
DTEND;TZID=UTC:20251211T120000
DTSTAMP:20260422T142052
CREATED:20250925T141951Z
LAST-MODIFIED:20251023T134235Z
UID:1454-1765449000-1765454400@facultysuccess.rutgers.edu
SUMMARY:EmPaCT: NVC: A Tool for Conflict Conversations and Sensemaking Workshop
DESCRIPTION:This experiential 90-minute workshop introduces Nonviolent Communication (NVC) as a process and practice to communicate observations\, emotions and needs with more self-awareness and respect. \nREGISTER
URL:https://facultysuccess.rutgers.edu/event/nvc-a-tool-for-conflict-conversations-and-sensemaking-workshop-2/
LOCATION:Online
CATEGORIES:EmPaCT,Rutgers University Human Resources
END:VEVENT
END:VCALENDAR