BEGIN:VCALENDAR
VERSION:2.0
PRODID:-//Center for Faculty Success - ECPv6.7.0//NONSGML v1.0//EN
CALSCALE:GREGORIAN
METHOD:PUBLISH
X-WR-CALNAME:Center for Faculty Success
X-ORIGINAL-URL:https://facultysuccess.rutgers.edu
X-WR-CALDESC:Events for Center for Faculty Success
REFRESH-INTERVAL;VALUE=DURATION:PT1H
X-Robots-Tag:noindex
X-PUBLISHED-TTL:PT1H
BEGIN:VTIMEZONE
TZID:UTC
BEGIN:STANDARD
TZOFFSETFROM:+0000
TZOFFSETTO:+0000
TZNAME:UTC
DTSTART:20240101T000000
END:STANDARD
END:VTIMEZONE
BEGIN:VEVENT
DTSTART;TZID=UTC:20241104T153000
DTEND;TZID=UTC:20241104T163000
DTSTAMP:20260425T015738
CREATED:20241023T195637Z
LAST-MODIFIED:20241023T195637Z
UID:1356-1730734200-1730737800@facultysuccess.rutgers.edu
SUMMARY:NTT Promotion Guidance for Department Chairs and Directors
DESCRIPTION:This one-hour online workshop on the NTT Promotion Process is sponsored by the NB Office of the Provost. The workshop will be led by the Vice Provost for Academic Affairs\, David Shreiber\, and Vice Provost for Faculty Affairs\, Victoria Banyard. Please join us to learn about the Teaching\, Professional Practice\, and Research Faculty promotion process. The session will provide opportunities to ask questions and learn more about how to approach NTT Promotions within your Department or Unit. \nRegister
URL:https://facultysuccess.rutgers.edu/event/ntt-promotion-guidance-for-department-chairs-and-directors/
LOCATION:Online
CATEGORIES:Department Chairs
END:VEVENT
END:VCALENDAR